BEGIN:VCALENDAR
VERSION:2.0
PRODID:-//Casey Cardinia Athletics - ECPv4.8.1//NONSGML v1.0//EN
CALSCALE:GREGORIAN
METHOD:PUBLISH
X-WR-CALNAME:Casey Cardinia Athletics
X-ORIGINAL-URL:https://caseycardiniaaths.org.au
X-WR-CALDESC:Events for Casey Cardinia Athletics
BEGIN:VEVENT
DTSTART;TZID=Australia/Melbourne:20180920T173000
DTEND;TZID=Australia/Melbourne:20180920T193000
DTSTAMP:20190301T111243
CREATED:20180912T122555Z
LAST-MODIFIED:20180912T122730Z
UID:334-1537464600-1537471800@caseycardiniaaths.org.au
SUMMARY:2018/19 Season Information Night
DESCRIPTION:Casey Cardinia Athletics is holding an information night about the upcoming season.  New\, returning and prospective members are welcome to come down to Casey Fields Regional Athletics Centre from 5:30pm to meet the Coaches and current Athletes and are free to join the training session. \nThe information session will start at 6:00pm in the Community room and cover the following topics: \n\nRegistration\nUniform\nEvent Entry\nAV Shield\nState and National Championships\nSpecialist Event Competitions\n\nLight refreshments including Tea\, Coffee\, Milo and cakes available on the evening. \n
URL:https://caseycardiniaaths.org.au/event/2018-19-season-information-night/
LOCATION:Casey Fields Regional Athletics Centre\, 160 Cranbourne-Berwick Rd\, Cranbourne East\, Victoria\, 3977\, Australia
ATTACH;FMTTYPE=image/jpeg:https://caseycardiniaaths.org.au/wp-content/uploads/2018/06/pexels-photo-332835.jpeg
ORGANIZER;CN="Casey%20Cardinia%20Athletics":MAILTO:secretary@caseycardiniaaths.org.au
END:VEVENT
END:VCALENDAR